BEGIN:VCALENDAR
VERSION:2.0
PRODID:spatie/icalendar-generator
DESCRIPTION:Events from Pascoe Vale Rotary Club
X-WR-CALDESC:Events from Pascoe Vale Rotary Club
REFRESH-INTERVAL;VALUE=DURATION:PT1440M
X-PUBLISHED-TTL:PT1440M
BEGIN:VTIMEZONE
TZID:Australia/Melbourne
BEGIN:STANDARD
DTSTART:20250406T030000Z
TZOFFSETFROM:+1100
TZOFFSETTO:+1000
END:STANDARD
BEGIN:DAYLIGHT
DTSTART:20251005T020000Z
TZOFFSETFROM:+1000
TZOFFSETTO:+1100
END:DAYLIGHT
BEGIN:STANDARD
DTSTART:20260405T030000Z
TZOFFSETFROM:+1100
TZOFFSETTO:+1000
END:STANDARD
END:VTIMEZONE
BEGIN:VTIMEZONE
TZID:UTC
BEGIN:STANDARD
DTSTART:20250724T090455Z
TZOFFSETFROM:+0000
TZOFFSETTO:+0000
END:STANDARD
END:VTIMEZONE
BEGIN:VEVENT
UID:93-36
DTSTAMP:20260420T090455Z
SUMMARY:PVRC @ DIK
LOCATION:
ORGANIZER;CN=admin:MAILTO:pascoevalerotary@gmail.com
RRULE:FREQ=WEEKLY;UNTIL=20251223T000000Z
DTSTART;TZID=Australia/Melbourne:20251216T090000
DTEND;TZID=Australia/Melbourne:20251216T130000
X-ALT-DESC;FMTTYPE=TEXT/HTML:<p>Pascoe Vale Rotary volunteers at Rotary Don
 ations in Kind</p>\n
CATEGORIES:Community
URL;VALUE=URI:https://pascoevalerotary.com.au/mc-events/pvrc-dik-2/?mc_id=9
 3
END:VEVENT
END:VCALENDAR